BEGIN:VCALENDAR
VERSION:2.0
PRODID:-//Buendia Books - ECPv6.15.18//NONSGML v1.0//EN
CALSCALE:GREGORIAN
METHOD:PUBLISH
X-WR-CALNAME:Buendia Books
X-ORIGINAL-URL:https://www.buendiabooks.it
X-WR-CALDESC:Eventi per Buendia Books
REFRESH-INTERVAL;VALUE=DURATION:PT1H
X-Robots-Tag:noindex
X-PUBLISHED-TTL:PT1H
BEGIN:VTIMEZONE
TZID:Europe/Rome
BEGIN:DAYLIGHT
TZOFFSETFROM:+0100
TZOFFSETTO:+0200
TZNAME:CEST
DTSTART:20240331T010000
END:DAYLIGHT
BEGIN:STANDARD
TZOFFSETFROM:+0200
TZOFFSETTO:+0100
TZNAME:CET
DTSTART:20241027T010000
END:STANDARD
BEGIN:DAYLIGHT
TZOFFSETFROM:+0100
TZOFFSETTO:+0200
TZNAME:CEST
DTSTART:20250330T010000
END:DAYLIGHT
BEGIN:STANDARD
TZOFFSETFROM:+0200
TZOFFSETTO:+0100
TZNAME:CET
DTSTART:20251026T010000
END:STANDARD
BEGIN:DAYLIGHT
TZOFFSETFROM:+0100
TZOFFSETTO:+0200
TZNAME:CEST
DTSTART:20260329T010000
END:DAYLIGHT
BEGIN:STANDARD
TZOFFSETFROM:+0200
TZOFFSETTO:+0100
TZNAME:CET
DTSTART:20261025T010000
END:STANDARD
END:VTIMEZONE
BEGIN:VEVENT
DTSTART;TZID=Europe/Rome:20251205T183000
DTEND;TZID=Europe/Rome:20251205T200000
DTSTAMP:20260423T110255
CREATED:20251119T120515Z
LAST-MODIFIED:20251119T120515Z
UID:31543-1764959400-1764964800@www.buendiabooks.it
SUMMARY:La rivoluzione poetica degli animali alla Libreria Belgravia
DESCRIPTION:La rivoluzione poetica degli animali alla Libreria Belgravia \nIL LIBRO DI VALERIA BIANCHI MIAN & MAX PONTE DIVENTA UN READING DI VERSI BESTIALI E NOTE \n Vi aspettiamo venerdì 5 dicembre alle ore 18.30 in via Vicoforte 14 (Torino) per un evento imperdibile \n\nECCO GLI ARTISTI CHE SI UNISCONO AL BRANCO… \nMusiche diGiacomo Aime & Sascha Aime \nPOESIE METANIMALI E LETTURE DIElena Ana CirceiAngela DonnaIvo De PalmaCetty Di FortiRamona ParaialaSalvatore Sblando \n\n Il libro In un imprecisato futuro\, in cui gli umani hanno ridotto la Terra a un colabrodo\, gli animali della savana urbana assaltano la televisione nazionale con un messaggio chiaro: per evitare il disastro\, è necessaria un’alleanza fondata su un linguaggio comune.Margherita l’antilope\, Attilio il giraffo e un branco molto speciale sono i protagonisti di una favola interspecista per tutte le età\, alla scoperta del potere dell’amicizia e dei… versi. \n  \nValeria Bianchi Mian è psicologa e psicoterapeuta junghiana specializzata in Psicodramma. Ha creato il Metodo Tarotdramma®. Conduce corsi di scrittura terapeutica con Giunti Psicologia e altre case editrici. Ha curato saggi tra i quali Fare storie (Giunti\, 2025). Ha scritto racconti e curato antologie di racconti\, tra le quali Psicoporno ed Eros svelato (entrambe edite da Buendia Books). Ha pubblicato e curato raccolte di Poesia a tematica antispecista e femminista. È autrice in Piemonte in Noir\, Capricorno Edizioni. Ha sceneggiato mazzi di Oracoli con White Star\, Vivida Books. \nMax Ponte\, nato ad Asti nel 1977\, è poeta\, narratore\, ricercatore. Ha pubblicato alcune raccolte di poesia\, l’ultima dal titolo Il mio paese è una stella (Letteratura Alternativa 2024). È stato incluso da Alfredo Rienzi nella raccolta Poesia a Torino – Cent’anni e quaranta volti (puntoacapo\, 2024). Una sua poesia\, La promessa della felicità\, è diventata un brano del cantautore Federico Sirianni\, finalista alle Targhe Tenco 2024. È anche autore di racconti\, nel 2025 ha pubblicato La vittoria dei cappellai matti in La stessa cosa del sangue. Racconti con la resistenza (DeriveApprodi) a cura di Sergio Sichenze. \n\nPer informazioni:libreria.belgravia@gmail.comTel. 011.18892655Cell. 347.597788
URL:https://www.buendiabooks.it/evento/la-rivoluzione-poetica-degli-animali-alla-libreria-belgravia/
LOCATION:Libreria Belgravia\, Via Vicoforte 14/D\, Torino\, TO\, 10139\, Italia
CATEGORIES:Presentazione
ATTACH;FMTTYPE=image/jpeg:https://www.buendiabooks.it/wp-content/uploads/2025/11/La-rivoluzione-poetica-degli-animali_Belgravia_05122025_Locandina-e1763553764644.jpg
ORGANIZER;CN="Libreria Belgravia":MAILTO:libreria.belgravia@gmail.com
END:VEVENT
BEGIN:VEVENT
DTSTART;TZID=Europe/Rome:20251202T180000
DTEND;TZID=Europe/Rome:20251202T193000
DTSTAMP:20260423T110255
CREATED:20251120T114855Z
LAST-MODIFIED:20251120T114855Z
UID:31546-1764698400-1764703800@www.buendiabooks.it
SUMMARY:Max Ponte e Valeria Bianchi Mian alla Libreria Alberi d'Acqua
DESCRIPTION:Max Ponte e Valeria Bianchi Mian alla Libreria Alberi d’Acqua \nMartedì 2 dicembre alle ore 18 alla Libreria Alberi d’Acqua di Asti si terrà la presentazione del libro La rivoluzione poetica degli animali\, saranno ospiti gli autori Valeria Bianchi Mian e Max Ponte. \n  \nSi tratta di una favola per tutte le età\, una riflessione (senza rinunciare agli aspetti più giocosi e avventurosi!) sull’ambiente\, sull’interazione\, sulla necessità di trovare un linguaggio comune per costruire un futuro più limpido e luminoso: cosa succederebbe se gli animali inviassero un messaggio all’umanità? E se la poesia\, i versi e le parole potessero salvarci? E se il nostro lato più selvatico e nascosto fosse anche quello più vero? \nMax e Valeria\, oltre ad aver dato vita a una trama armoniosa e originale\, sono radicati e noti in Piemonte e non solo\, molto attivi e seguiti in rete e riescono a trasformare ogni incontro in qualcosa di più di una “classica presentazione”\, in un momento di condivisione e sperimentazione che coinvolge e diverte\, sempre regalando spunti e suggestioni profonde. \n  \nValeria Bianchi Mian è psicologa e psicoterapeuta junghiana specializzata in Psicodramma. Ha creato il Metodo Tarotdramma®. Conduce corsi di scrittura terapeutica\, ha pubblicato e curato raccolte di Poesia a tematica antispecista e femminista. \nMax Ponte\, nato ad Asti nel 1977\, è poeta\, narratore\, ricercatore. Ha pubblicato alcune raccolte di poesia\, l’ultima dal titolo Il mio paese è una stella. È anche autore di racconti\, nel 2025 ha pubblicato La vittoria dei cappellai matti in La stessa cosa del sangue. Racconti con la resistenza a cura di Sergio Sichenze. \n  \nDialogherà con gli autori la professoressa Marisa Varvello; interverrà l’Associazione Camminare Lentamente. \nL’ingresso è gratuito\, ma è necessaria la prenotazione; è previsto un piccolo omaggio natalizio per i presenti. \n  \nPer info e prenotazioni:\nLibreria Alberi d’Acqua\n0141 556270\nalberidacqua@libero.it
URL:https://www.buendiabooks.it/evento/max-ponte-e-valeria-bianchi-mian-alla-libreria-alberi-d-acqua/
LOCATION:Libreria Alberi d’Acqua\, Via Rossini\, 1\, Asti\, AT\, 14100\, Italy
CATEGORIES:Presentazione
ATTACH;FMTTYPE=image/jpeg:https://www.buendiabooks.it/wp-content/uploads/2025/11/Locandina-Rivoluzione-poetica-degli-animali-e1763639231946.jpg
ORGANIZER;CN="Libreria Alberi d'Acqua":MAILTO:alberidacqua@libero.it
END:VEVENT
END:VCALENDAR