BEGIN:VCALENDAR
VERSION:2.0
PRODID:-//Buendia Books - ECPv6.15.18//NONSGML v1.0//EN
CALSCALE:GREGORIAN
METHOD:PUBLISH
X-WR-CALNAME:Buendia Books
X-ORIGINAL-URL:https://www.buendiabooks.it
X-WR-CALDESC:Eventi per Buendia Books
REFRESH-INTERVAL;VALUE=DURATION:PT1H
X-Robots-Tag:noindex
X-PUBLISHED-TTL:PT1H
BEGIN:VTIMEZONE
TZID:Europe/Rome
BEGIN:DAYLIGHT
TZOFFSETFROM:+0100
TZOFFSETTO:+0200
TZNAME:CEST
DTSTART:20250330T010000
END:DAYLIGHT
BEGIN:STANDARD
TZOFFSETFROM:+0200
TZOFFSETTO:+0100
TZNAME:CET
DTSTART:20251026T010000
END:STANDARD
BEGIN:DAYLIGHT
TZOFFSETFROM:+0100
TZOFFSETTO:+0200
TZNAME:CEST
DTSTART:20260329T010000
END:DAYLIGHT
BEGIN:STANDARD
TZOFFSETFROM:+0200
TZOFFSETTO:+0100
TZNAME:CET
DTSTART:20261025T010000
END:STANDARD
BEGIN:DAYLIGHT
TZOFFSETFROM:+0100
TZOFFSETTO:+0200
TZNAME:CEST
DTSTART:20270328T010000
END:DAYLIGHT
BEGIN:STANDARD
TZOFFSETFROM:+0200
TZOFFSETTO:+0100
TZNAME:CET
DTSTART:20271031T010000
END:STANDARD
END:VTIMEZONE
BEGIN:VEVENT
DTSTART;TZID=Europe/Rome:20260508T203000
DTEND;TZID=Europe/Rome:20260508T223000
DTSTAMP:20260423T105533
CREATED:20260421T163444Z
LAST-MODIFIED:20260421T163444Z
UID:32154-1778272200-1778279400@www.buendiabooks.it
SUMMARY:Poesia al centro con Valeria Bianchi Mian & Max Ponte
DESCRIPTION:Poesia al centro con Valeria Bianchi Mian & Max Ponte \nVenerdì 8 maggio alle ore 20.30 La rivoluzione poetica degli animali di Valeria Bianchi Mian & Max Ponte arriva a Villanova d’Asti\, presso l’ex Confraternita della SS. Annunziata (via Tommaso Villa\, angolo via Edmondo De Amicis)\, in occasione della serata “Poesia al centro”\, inserita nel programma del SaloneOFF! \nIl nostro libro sarà in ottima compagnia: protagonisti dell’incontro e dei reading\, infatti\, saranno anche Mario Moschietto con La ragazza arcobaleno e i papaveri vermigli (Echos Edizioni) e Salvatore Sblando e Ramona Paraiala di Periferia Letteraria con le loro poesie. \nPresentano: Daniela Giudici & Max Ponte \nEvento a cura diComune di Villanova d’AstiBiblioteca Comunale di Villanova d’AstiUnione di comuni Monferrato e Pianalto Astigiano \n\n La rivoluzione poetica degli animali In un imprecisato futuro\, in cui gli umani hanno ridotto la Terra a un colabrodo\, gli animali della savana urbana assaltano la televisione nazionale con un messaggio chiaro: per evitare il disastro\, è necessaria un’alleanza fondata su un linguaggio comune.Margherita l’antilope\, Attilio il giraffo e un branco molto speciale sono i protagonisti di una favola interspecista per tutte le età\, alla scoperta del potere dell’amicizia e dei… versi. \nValeria Bianchi Mian è psicologa e psicoterapeuta junghiana specializzata in Psicodramma. Ha creato il Metodo Tarotdramma®. Conduce corsi di scrittura terapeutica con Giunti Psicologia e altre case editrici. Ha curato saggi tra i quali Fare storie (Giunti\, 2025). Ha scritto racconti e curato antologie di racconti\, tra le quali Psicoporno ed Eros svelato (entrambe edite da Buendia Books). Ha pubblicato e curato raccolte di Poesia a tematica antispecista e femminista. È autrice in Piemonte in Noir\, Capricorno Edizioni. Ha sceneggiato mazzi di Oracoli con White Star\, Vivida Books. \nMax Ponte\, nato ad Asti nel 1977\, è poeta\, narratore\, ricercatore. Ha pubblicato alcune raccolte di poesia\, l’ultima dal titolo Il mio paese è una stella (Letteratura Alternativa 2024). È stato incluso da Alfredo Rienzi nella raccolta Poesia a Torino – Cent’anni e quaranta volti (puntoacapo\, 2024). Una sua poesia\, La promessa della felicità\, è diventata un brano del cantautore Federico Sirianni\, finalista alle Targhe Tenco 2024. È anche autore di racconti\, nel 2025 ha pubblicato La vittoria dei cappellai matti in La stessa cosa del sangue. Racconti con la resistenza (DeriveApprodi) a cura di Sergio Sichenze. \n\nINGRESSO LIBERO FINO A ESAURIMENTO POSTI
URL:https://www.buendiabooks.it/evento/poesia-al-centro-con-valeria-bianchi-mian-max-ponte/
LOCATION:Ex Confraternita della SS. Annunziata\, via Tommaso Villa\, angolo via Edmondo De Amicis\, Villanova d'Asti\, AT\, 14019\, Italy
CATEGORIES:Presentazione
ATTACH;FMTTYPE=image/jpeg:https://www.buendiabooks.it/wp-content/uploads/2026/04/La-rivoluzione-poetica-degli-animali_Villanova-dAsti_08052026-e1776789175459.jpg
ORGANIZER;CN="Biblioteca Comunale di Villanova d'Asti":MAILTO:salaletturadadarosso@gmail.com
END:VEVENT
END:VCALENDAR